BEGIN:VCALENDAR
VERSION:2.0
PRODID:-//wp-events-plugin.com//7.2.3//EN
TZID:America/Chicago
X-WR-TIMEZONE:America/Chicago
BEGIN:VEVENT
UID:406@bethshalomnb.org
DTSTART;TZID=America/Chicago:20260513T180000
DTEND;TZID=America/Chicago:20260513T203000
DTSTAMP:20260330T205940Z
URL:https://bethshalomnb.org/events/sisterhood-culminating-installation-an
 d-valued-volunteer-dinner/
SUMMARY:Sisterhood Culminating\, Installation and Valued Volunteer Dinner
DESCRIPTION:Sustainability - Reduce\, Reuse\, Rejoice!\nHonoring Valued Vol
 unteer Pam Schlosberg\nGuest Speaker\, Gabriel Gould\, Executive Director 
 of Soil &amp\; Soul\nRegenerative Farming as a Jewish Value\nCost: $45 Sis
 terhood Members\; $55 Nonmembers\nSpecial Social Action Project - collecti
 ng used cell phones for SHALVA\nREGISTER HERE by Wed 5/6\nQuestions - cont
 act Alyssa Weisbach\n&nbsp\;
ATTACH;FMTTYPE=image/jpeg:https://bethshalomnb.org/wp-content/uploads/2026
 /03/hands-holidng-soil-resized.jpg
CATEGORIES:Featured Events,Sisterhood
LOCATION:Congregation Beth Shalom\, 3433 Walters Avenue\, Northbrook\, IL\,
  60062\, United States
X-APPLE-STRUCTURED-LOCATION;VALUE=URI;X-ADDRESS=3433 Walters Avenue\, North
 brook\, IL\, 60062\, United States;X-APPLE-RADIUS=100;X-TITLE=Congregation
  Beth Shalom:geo:0,0
END:VEVENT
BEGIN:VTIMEZONE
TZID:America/Chicago
X-LIC-LOCATION:America/Chicago
BEGIN:DAYLIGHT
DTSTART:20260308T030000
TZOFFSETFROM:-0600
TZOFFSETTO:-0500
TZNAME:CDT
END:DAYLIGHT
END:VTIMEZONE
END:VCALENDAR