BEGIN:VCALENDAR
VERSION:2.0
PRODID:-//wp-events-plugin.com//7.2.3//EN
TZID:America/Chicago
X-WR-TIMEZONE:America/Chicago
BEGIN:VEVENT
UID:408@bethshalomnb.org
DTSTART;TZID=America/Chicago:20260521T000000
DTEND;TZID=America/Chicago:20260523T000000
DTSTAMP:20260415T175347Z
URL:https://bethshalomnb.org/events/shavuot-5786/
SUMMARY:Shavuot 5786
DESCRIPTION:Thursday\, May 21&nbsp\;\n6 Sivan\n5:45 pm Family Program\nExpl
 ore the shul on a Torah-themed quest geared for families with kids ages 4-
 11!\n6:30 pm Festive Dinner&nbsp\;\nCelebrate with a dairy fest!\nCost: Ad
 ults (18+) $30\, Ages 13-17 $15\, Ages 5-12 $10\, Ages 4 and under - our g
 uests\nREGISTER HERE by Thursday May 14\n7:45 pm Tikkun L'eyl Shavuot\nWel
 come to the Festival service\, followed by a panel discussion featuring be
 loved Torah readers in our CBS commuity\nOur evening will continue with ch
 oose-your-own sessions led by clergy and lay leaders.\nDon't worry - there
  will be plenty of cheesecake\, too!\n7:51 pm Candle Lighting&nbsp\;\n10:4
 5 pm Closing Ritual\n\n\n\nFriday\, May 22 - Shavuot (Main Office Closed) 
 \nFestival Service&nbsp\; 9:30 AM\n(In-person and Live Stream)\nShabbat an
 d Festival Service&nbsp\; 6:00 PM\n(In-person and Live Stream from the Fea
 ther Beit Midrash)\nCandle Lighting&nbsp\; &nbsp\;7:52 PM\nSaturday\, May 
 23 - Shavuot (Main Office Closed)\nShabbat and Festival Service with Yizko
 r&nbsp\; 9:30 AM\n(In-person and Live Stream from the Kamensky Sanctuary)\
 n*Mincha&nbsp\; 12:15 PM\n(In-person and Live Stream from the Feather Beit
  Midrash)\n*Mincha will take place at the conclusion of morning Shabbat se
 rvice\, but not before 12:15 PM.
ATTACH;FMTTYPE=image/jpeg:https://bethshalomnb.org/wp-content/uploads/2026
 /04/Shavuot-5786-resized.jpg
CATEGORIES:Featured Events
LOCATION:Congregation Beth Shalom\, 3433 Walters Avenue\, Northbrook\, IL\,
  60062\, United States
X-APPLE-STRUCTURED-LOCATION;VALUE=URI;X-ADDRESS=3433 Walters Avenue\, North
 brook\, IL\, 60062\, United States;X-APPLE-RADIUS=100;X-TITLE=Congregation
  Beth Shalom:geo:0,0
END:VEVENT
BEGIN:VTIMEZONE
TZID:America/Chicago
X-LIC-LOCATION:America/Chicago
BEGIN:DAYLIGHT
DTSTART:20260308T030000
TZOFFSETFROM:-0600
TZOFFSETTO:-0500
TZNAME:CDT
END:DAYLIGHT
END:VTIMEZONE
END:VCALENDAR