BEGIN:VCALENDAR
VERSION:2.0
PRODID:-//wp-events-plugin.com//7.2.3//EN
TZID:America/Chicago
X-WR-TIMEZONE:America/Chicago
BEGIN:VEVENT
UID:241@bethshalomnb.org
DTSTART;TZID=America/Chicago:20260501T180000
DTEND;TZID=America/Chicago:20260612T190000
DTSTAMP:20260412T212726Z
URL:https://bethshalomnb.org/events/shabbat-selahbrate/
SUMMARY:Shabbat Selahbrate
DESCRIPTION:CBS IS CELEBRATING YOU EVERY MONTH!\nCelebrate your birthday an
 d anniversary with CBS during your special month.&nbsp\;\nThe first Friday
  of the month come to Shabbat and receive a Birthday Blessing and special 
 treat\, kids\, too!\nThe second Friday of the month come to Shabbat and re
 ceive an Anniversary Blessing and gift - please RSVP lifecycles@bethshalom
 nb.org if you will be attending!\nBirthday Blessings - First Fridays @ 6:0
 0 pm\nMay 1\nJune 5\nAnniversary Blessings -Second Fridays @ 6:00 pm\nMay 
 8\nJune 12
ATTACH;FMTTYPE=image/jpeg:https://bethshalomnb.org/wp-content/uploads/2022
 /11/balloons-celebration-resized.jpg
CATEGORIES:Featured Events
LOCATION:Congregation Beth Shalom\, 3433 Walters Avenue\, Northbrook\, IL\,
  60062\, United States
X-APPLE-STRUCTURED-LOCATION;VALUE=URI;X-ADDRESS=3433 Walters Avenue\, North
 brook\, IL\, 60062\, United States;X-APPLE-RADIUS=100;X-TITLE=Congregation
  Beth Shalom:geo:0,0
END:VEVENT
BEGIN:VTIMEZONE
TZID:America/Chicago
X-LIC-LOCATION:America/Chicago
BEGIN:DAYLIGHT
DTSTART:20260308T030000
TZOFFSETFROM:-0600
TZOFFSETTO:-0500
TZNAME:CDT
END:DAYLIGHT
END:VTIMEZONE
END:VCALENDAR