BEGIN:VCALENDAR
VERSION:2.0
PRODID:-//wp-events-plugin.com//7.2.3//EN
TZID:America/Chicago
X-WR-TIMEZONE:America/Chicago
BEGIN:VEVENT
UID:278@bethshalomnb.org
DTSTART;TZID=America/Chicago;VALUE=DATE:20260424
DTEND;TZID=America/Chicago;VALUE=DATE:20260621
DTSTAMP:20260419T035843Z
URL:https://bethshalomnb.org/events/families-with-young-children/
SUMMARY:Families With Young Children
DESCRIPTION:Friday\, April 24\n5:00 PM\nFamilies With Young Children Shabba
 t Experience\nJoin us for a Musical Shabbat Service &amp\; Family Dinner&n
 bsp\;\nREGISTER HERE\n\n\n\n\nShabbat With a Twist\nSaturday\,&nbsp\; Apri
 l 25\n11:00 am\nFor children birth-4 years old and their grownups!\nCelebr
 ate Shabbat with yoga\, challah braiding\, crafts\, and more!\nREGISTER HE
 RE\n\n\n\nFamily Shabbat Service\nJoin us for a joyful lay-led Shabbat ser
 vice with prayers\, songs\, and a story for kids aged 3-8 with their grown
 ups on Shabbat mornings.\n11:15 am - 12:00 pm\nMay 2\, 23\nJune 6\, 20\nLo
 cation: Marian Renee Saltzberg Learning Resource Center (Library)\nNo regi
 stration required\n\n\n\n\nArk Adventures\nSaturday\, June 13 at 9:30 or 1
 1:00 am\nFor children birth-4 years old and their grownups!\nClimb aboard 
 the ark for this theatrical and musical Shabbat experience filled with sen
 sory storytelling\, puppetry\, and lots of imagination.\nREGISTER HERE - c
 oming soon!
ATTACH;FMTTYPE=image/jpeg:https://bethshalomnb.org/wp-content/uploads/2023
 /07/Copy-of-CBS-USY-Sukkot-10-5-23-800-x-800-px.png
CATEGORIES:Featured Events
END:VEVENT
BEGIN:VTIMEZONE
TZID:America/Chicago
X-LIC-LOCATION:America/Chicago
BEGIN:DAYLIGHT
DTSTART:20260308T030000
TZOFFSETFROM:-0600
TZOFFSETTO:-0500
TZNAME:CDT
END:DAYLIGHT
END:VTIMEZONE
END:VCALENDAR